BEGIN:VCALENDAR
VERSION:2.0
PRODID:SchoolNow
CALSCALE:GREGORIAN
BEGIN:VEVENT
UID:5d52cd2a-f33e-11ed-ba23-0e7daef1c4d5
DTSTAMP:20230515T163429Z
SUMMARY:5th Grade Social\, Meadow Lane & Anderson Heights
URL;VALUE=URI:https://www.cuesd.com/schools/meadow-lane/calendar/4246413/5t
 h-grade-social-meadow-lane-anderson-heights
DTSTART:20230520T003000Z
DTEND:20230520T020000Z
ATTACH;FILENAME=;FMTTYPE=application/octet-stream:
END:VEVENT
END:VCALENDAR
