BEGIN:VCALENDAR
VERSION:2.0
PRODID:SchoolNow
CALSCALE:GREGORIAN
BEGIN:VEVENT
UID:0181b596-e48f-11ed-b08e-0ee464078eb3
DTSTAMP:20230427T000357Z
SUMMARY:Scholastic Book Fair
URL;VALUE=URI:https://www.cuesd.com/schools/meadow-lane/calendar/4133805/sc
 holastic-book-fair-clone-clone
DTSTART:20230526T143000Z
DTEND:20230526T233000Z
END:VEVENT
END:VCALENDAR
