BEGIN:VCALENDAR
VERSION:2.0
PRODID:SchoolNow
CALSCALE:GREGORIAN
BEGIN:VEVENT
UID:e1c3b9fc-e48e-11ed-9225-0ee464078eb3
DTSTAMP:20230427T000304Z
SUMMARY:Scholastic Book Fair
URL;VALUE=URI:https://www.cuesd.com/schools/meadow-lane/calendar/4133803/sc
 holastic-book-fair-clone
DTSTART:20230524T143000Z
DTEND:20230524T233000Z
END:VEVENT
END:VCALENDAR
