BEGIN:VCALENDAR
VERSION:2.0
PRODID:SchoolNow
CALSCALE:GREGORIAN
BEGIN:VEVENT
UID:be53e938-e48e-11ed-9f02-0ee464078eb3
DTSTAMP:20230427T000204Z
SUMMARY:Scholastic Book Fair
URL;VALUE=URI:https://www.cuesd.com/schools/meadow-lane/calendar/4133802/sc
 holastic-book-fair
DTSTART:20230523T143000Z
DTEND:20230523T233000Z
END:VEVENT
END:VCALENDAR
