BEGIN:VCALENDAR
VERSION:2.0
PRODID:SchoolNow
CALSCALE:GREGORIAN
BEGIN:VEVENT
UID:54c02208-e48d-11ed-8579-0e0e83a3f529
DTSTAMP:20230426T235158Z
SUMMARY:School Principal Appreciation Day
URL;VALUE=URI:https://www.cuesd.com/schools/meadow-lane/calendar/4133801/sc
 hool-principal-appreciation-day
DTSTART:20230501T150000Z
DTEND:20230501T230000Z
END:VEVENT
END:VCALENDAR
