BEGIN:VCALENDAR
VERSION:2.0
PRODID:SchoolNow
CALSCALE:GREGORIAN
BEGIN:VEVENT
UID:6bbe231c-cfe1-11ed-88c0-0a31cada915b
DTSTAMP:20230513T001146Z
SUMMARY:Color Run Rescheduled to 5/26
URL;VALUE=URI:https://www.cuesd.com/schools/meadow-lane/calendar/3955161/co
 lor-run
DTSTART;VALUE=DATE:20230526
DTEND;VALUE=DATE:20230528
ATTACH;FILENAME=;FMTTYPE=application/octet-stream:
ATTACH;FILENAME=;FMTTYPE=application/octet-stream:
END:VEVENT
END:VCALENDAR
