BEGIN:VCALENDAR
VERSION:2.0
PRODID:SchoolNow
CALSCALE:GREGORIAN
BEGIN:VEVENT
UID:09541344-cfe1-11ed-89af-0a31cada915b
DTSTAMP:20230331T162814Z
SUMMARY:Book Swap
URL;VALUE=URI:https://www.cuesd.com/schools/meadow-lane/calendar/3955160/bo
 ok-swap
DTSTART:20230425T230000Z
DTEND:20230426T010000Z
ATTACH;FILENAME=;FMTTYPE=application/octet-stream:
END:VEVENT
END:VCALENDAR
