BEGIN:VCALENDAR
VERSION:2.0
PRODID:SchoolNow
CALSCALE:GREGORIAN
BEGIN:VEVENT
UID:1fa640b2-b84f-11ed-b38e-0a5214a1ceb3
DTSTAMP:20230301T163549Z
SUMMARY:Project Share Dance Recital
URL;VALUE=URI:https://www.cuesd.com/schools/meadow-lane/calendar/3800191/pr
 oject-share-dance-recital
DTSTART:20230311T200000Z
DTEND:20230311T210000Z
ATTACH;FILENAME=dance silhouettes graphic.jpg;FMTTYPE=image/jpeg:https://ca
 mpussuite-storage.s3.amazonaws.com/prod/1559086/ac6be018-27b1-11ec-b897-0a
 8825499a03/2557906/e949f2a2-b84e-11ed-a80c-0a5214a1ceb3/file/dance silhoue
 ttes graphic.jpg
ATTACH;FILENAME=;FMTTYPE=application/octet-stream:
END:VEVENT
END:VCALENDAR
