BEGIN:VCALENDAR
VERSION:2.0
PRODID:SchoolNow
CALSCALE:GREGORIAN
BEGIN:VEVENT
UID:bc68551e-b84c-11ed-ab3c-0effee588e93
DTSTAMP:20230301T161843Z
SUMMARY:Minimum Day Schedule -Parent Conferences
URL;VALUE=URI:https://www.cuesd.com/schools/meadow-lane/calendar/3800190/mi
 nimum-day-parent-conferences-clone-clone
DTSTART;VALUE=DATE:20230315
DTEND;VALUE=DATE:20230316
END:VEVENT
END:VCALENDAR
