BEGIN:VCALENDAR
VERSION:2.0
PRODID:SchoolNow
CALSCALE:GREGORIAN
BEGIN:VEVENT
UID:a49cb3f4-acb6-11ed-990d-0aa115513373
DTSTAMP:20230214T222636Z
SUMMARY:4th Grade Book Club
LOCATION:Meadow Lane Library
URL;VALUE=URI:https://www.cuesd.com/schools/meadow-lane/calendar/3745240/5t
 h-grade-book-club-march-3rd-clone-clone-clone-clone-clone-clone-clone-clon
 e-clone-clone
DTSTART:20230524T210000Z
DTEND:20230524T223000Z
END:VEVENT
END:VCALENDAR
