BEGIN:VCALENDAR
VERSION:2.0
PRODID:SchoolNow
CALSCALE:GREGORIAN
BEGIN:VEVENT
UID:8ec6f18e-acb6-11ed-9130-0aa115513373
DTSTAMP:20230214T222559Z
SUMMARY:4th Grade Book Club
LOCATION:Meadow Lane Library
URL;VALUE=URI:https://www.cuesd.com/schools/meadow-lane/calendar/3745239/5t
 h-grade-book-club-march-3rd-clone-clone-clone-clone-clone-clone-clone-clon
 e-clone
DTSTART:20230517T210000Z
DTEND:20230517T223000Z
END:VEVENT
END:VCALENDAR
