BEGIN:VCALENDAR
VERSION:2.0
PRODID:SchoolNow
CALSCALE:GREGORIAN
BEGIN:VEVENT
UID:7fa62f8a-acb6-11ed-9906-0aa115513373
DTSTAMP:20230214T222534Z
SUMMARY:4th Grade Book Club
LOCATION:Meadow Lane Library
URL;VALUE=URI:https://www.cuesd.com/schools/meadow-lane/calendar/3745238/5t
 h-grade-book-club-march-3rd-clone-clone-clone-clone-clone-clone-clone-clon
 e-clone-clone
DTSTART:20230510T200000Z
DTEND:20230510T213000Z
END:VEVENT
END:VCALENDAR
