BEGIN:VCALENDAR
VERSION:2.0
PRODID:SchoolNow
CALSCALE:GREGORIAN
BEGIN:VEVENT
UID:52a2824a-acb6-11ed-a9ca-0aa115513373
DTSTAMP:20230214T222418Z
SUMMARY:4th Grade Book Club
LOCATION:Meadow Lane Library
URL;VALUE=URI:https://www.cuesd.com/schools/meadow-lane/calendar/3745235/5t
 h-grade-book-club-march-3rd-clone-clone-clone-clone-clone-clone-clone-clon
 e
DTSTART:20230419T210000Z
DTEND:20230419T223000Z
END:VEVENT
END:VCALENDAR
