BEGIN:VCALENDAR
VERSION:2.0
PRODID:SchoolNow
CALSCALE:GREGORIAN
BEGIN:VEVENT
UID:4a62dd96-acb6-11ed-b56c-0aa115513373
DTSTAMP:20230214T222405Z
SUMMARY:4th Grade Book Club
LOCATION:Meadow Lane Library
URL;VALUE=URI:https://www.cuesd.com/schools/meadow-lane/calendar/3745234/5t
 h-grade-book-club-march-3rd-clone-clone-clone-clone-clone-clone-clone-clon
 e-clone
DTSTART:20230412T200000Z
DTEND:20230412T213000Z
END:VEVENT
END:VCALENDAR
