BEGIN:VCALENDAR
VERSION:2.0
PRODID:SchoolNow
CALSCALE:GREGORIAN
BEGIN:VEVENT
UID:3ee1b690-acb6-11ed-83be-0aa115513373
DTSTAMP:20230214T222345Z
SUMMARY:4th Grade Book Club
LOCATION:Meadow Lane Library
URL;VALUE=URI:https://www.cuesd.com/schools/meadow-lane/calendar/3745233/5t
 h-grade-book-club-march-3rd-clone-clone-clone-clone-clone-clone-clone-clon
 e
DTSTART:20230329T210000Z
DTEND:20230329T223000Z
END:VEVENT
END:VCALENDAR
