BEGIN:VCALENDAR
VERSION:2.0
PRODID:SchoolNow
CALSCALE:GREGORIAN
BEGIN:VEVENT
UID:30a54fb0-acb6-11ed-a71b-0aa115513373
DTSTAMP:20230214T222321Z
SUMMARY:4th Grade Book Club
LOCATION:Meadow Lane Library
URL;VALUE=URI:https://www.cuesd.com/schools/meadow-lane/calendar/3745231/5t
 h-grade-book-club-march-3rd-clone-clone-clone-clone-clone-clone-clone-clon
 e-clone
DTSTART:20230315T200000Z
DTEND:20230315T213000Z
END:VEVENT
END:VCALENDAR
