BEGIN:VCALENDAR
VERSION:2.0
PRODID:SchoolNow
CALSCALE:GREGORIAN
BEGIN:VEVENT
UID:f53d9b96-acb3-11ed-8c17-02ccdd9f9393
DTSTAMP:20230214T220723Z
SUMMARY:4th Grade Book Club
LOCATION:Meadow Lane Library
URL;VALUE=URI:https://www.cuesd.com/schools/meadow-lane/calendar/3745229/5t
 h-grade-book-club-march-3rd-clone-clone-clone-clone-clone-clone-clone
DTSTART:20230301T220000Z
DTEND:20230301T233000Z
END:VEVENT
END:VCALENDAR
