BEGIN:VCALENDAR
VERSION:2.0
PRODID:SchoolNow
CALSCALE:GREGORIAN
BEGIN:VEVENT
UID:508a1430-acb3-11ed-a1b5-02ccdd9f9393
DTSTAMP:20230214T220246Z
SUMMARY:5th Grade Book Club
URL;VALUE=URI:https://www.cuesd.com/schools/meadow-lane/calendar/3745228/5t
 h-grade-book-club-clone-clone-clone-clone-clone-clone-clone-clone-clone-cl
 one-clone-clone-clone-clone-clone
DTSTART:20230427T210000Z
DTEND:20230427T223000Z
END:VEVENT
END:VCALENDAR
