BEGIN:VCALENDAR
VERSION:2.0
PRODID:SchoolNow
CALSCALE:GREGORIAN
BEGIN:VEVENT
UID:45279108-acb3-11ed-8cd6-02ccdd9f9393
DTSTAMP:20230214T220227Z
SUMMARY:5th Grade Book Club
URL;VALUE=URI:https://www.cuesd.com/schools/meadow-lane/calendar/3745227/5t
 h-grade-book-club-clone-clone-clone-clone-clone-clone-clone-clone-clone-cl
 one-clone-clone-clone-clone
DTSTART:20230425T210000Z
DTEND:20230425T223000Z
END:VEVENT
END:VCALENDAR
