BEGIN:VCALENDAR
VERSION:2.0
PRODID:SchoolNow
CALSCALE:GREGORIAN
BEGIN:VEVENT
UID:3c57877c-acb3-11ed-920b-02ccdd9f9393
DTSTAMP:20230214T220212Z
SUMMARY:5th Grade Book Club
URL;VALUE=URI:https://www.cuesd.com/schools/meadow-lane/calendar/3745226/5t
 h-grade-book-club-clone-clone-clone-clone-clone-clone-clone-clone-clone-cl
 one-clone-clone-clone
DTSTART:20230420T210000Z
DTEND:20230420T223000Z
END:VEVENT
END:VCALENDAR
