BEGIN:VCALENDAR
VERSION:2.0
PRODID:SchoolNow
CALSCALE:GREGORIAN
BEGIN:VEVENT
UID:32652990-acb3-11ed-8464-02ccdd9f9393
DTSTAMP:20230214T220156Z
SUMMARY:5th Grade Book Club
URL;VALUE=URI:https://www.cuesd.com/schools/meadow-lane/calendar/3745225/5t
 h-grade-book-club-clone-clone-clone-clone-clone-clone-clone-clone-clone-cl
 one-clone-clone
DTSTART:20230418T210000Z
DTEND:20230418T223000Z
END:VEVENT
END:VCALENDAR
