BEGIN:VCALENDAR
VERSION:2.0
PRODID:SchoolNow
CALSCALE:GREGORIAN
BEGIN:VEVENT
UID:25dc4d02-acb3-11ed-9dd4-02ccdd9f9393
DTSTAMP:20230214T220135Z
SUMMARY:5th Grade Book Club
URL;VALUE=URI:https://www.cuesd.com/schools/meadow-lane/calendar/3745224/5t
 h-grade-book-club-clone-clone-clone-clone-clone-clone-clone-clone-clone-cl
 one-clone
DTSTART:20230413T210000Z
DTEND:20230413T223000Z
END:VEVENT
END:VCALENDAR
