BEGIN:VCALENDAR
VERSION:2.0
PRODID:SchoolNow
CALSCALE:GREGORIAN
BEGIN:VEVENT
UID:1ba1e342-acb3-11ed-bec8-02ccdd9f9393
DTSTAMP:20230214T220118Z
SUMMARY:5th Grade Book Club
URL;VALUE=URI:https://www.cuesd.com/schools/meadow-lane/calendar/3745223/5t
 h-grade-book-club-clone-clone-clone-clone-clone-clone-clone-clone-clone-cl
 one
DTSTART:20230411T210000Z
DTEND:20230411T223000Z
END:VEVENT
END:VCALENDAR
