BEGIN:VCALENDAR
VERSION:2.0
PRODID:SchoolNow
CALSCALE:GREGORIAN
BEGIN:VEVENT
UID:0d90e0a0-acb3-11ed-9a8a-02ccdd9f9393
DTSTAMP:20230214T220054Z
SUMMARY:5th Grade Book Club
URL;VALUE=URI:https://www.cuesd.com/schools/meadow-lane/calendar/3745222/5t
 h-grade-book-club-clone-clone-clone-clone-clone-clone-clone-clone-clone
DTSTART:20230330T210000Z
DTEND:20230330T223000Z
END:VEVENT
END:VCALENDAR
