BEGIN:VCALENDAR
VERSION:2.0
PRODID:SchoolNow
CALSCALE:GREGORIAN
BEGIN:VEVENT
UID:d266772e-acb2-11ed-a36d-02ccdd9f9393
DTSTAMP:20230214T222748Z
SUMMARY:5th Grade Book Club
URL;VALUE=URI:https://www.cuesd.com/schools/meadow-lane/calendar/3745217/5t
 h-grade-book-club-clone-clone-clone-clone
DTSTART:20230314T200000Z
DTEND:20230314T213000Z
END:VEVENT
END:VCALENDAR
