BEGIN:VCALENDAR
VERSION:2.0
PRODID:SchoolNow
CALSCALE:GREGORIAN
BEGIN:VEVENT
UID:dc29cf6e-acb1-11ed-809b-0e91d55b4b1b
DTSTAMP:20230214T215222Z
SUMMARY:5th Grade Book Club
URL;VALUE=URI:https://www.cuesd.com/schools/meadow-lane/calendar/3745216/5t
 h-grade-book-club-clone-clone-clone
DTSTART:20230309T220000Z
DTEND:20230309T233000Z
END:VEVENT
END:VCALENDAR
