BEGIN:VCALENDAR
VERSION:2.0
PRODID:SchoolNow
CALSCALE:GREGORIAN
BEGIN:VEVENT
UID:d36c8a2e-acb1-11ed-8133-0e91d55b4b1b
DTSTAMP:20230214T215207Z
SUMMARY:5th Grade Book Club
URL;VALUE=URI:https://www.cuesd.com/schools/meadow-lane/calendar/3745215/5t
 h-grade-book-club-clone-clone-clone
DTSTART:20230307T220000Z
DTEND:20230307T233000Z
END:VEVENT
END:VCALENDAR
