BEGIN:VCALENDAR
VERSION:2.0
PRODID:SchoolNow
CALSCALE:GREGORIAN
BEGIN:VEVENT
UID:c8025dd0-acb1-11ed-9661-0e91d55b4b1b
DTSTAMP:20230214T215148Z
SUMMARY:5th Grade Book Club
URL;VALUE=URI:https://www.cuesd.com/schools/meadow-lane/calendar/3745214/5t
 h-grade-book-club-clone-clone-clone
DTSTART:20230302T220000Z
DTEND:20230302T233000Z
END:VEVENT
END:VCALENDAR
