BEGIN:VCALENDAR
VERSION:2.0
PRODID:SchoolNow
CALSCALE:GREGORIAN
BEGIN:VEVENT
UID:505d7fd0-acb1-11ed-bcbe-0e91d55b4b1b
DTSTAMP:20230214T214827Z
SUMMARY:5th Grade Book Club
URL;VALUE=URI:https://www.cuesd.com/schools/meadow-lane/calendar/3745213/5t
 h-grade-book-club-clone-clone
DTSTART:20230228T220000Z
DTEND:20230228T233000Z
END:VEVENT
END:VCALENDAR
