BEGIN:VCALENDAR
VERSION:2.0
PRODID:SchoolNow
CALSCALE:GREGORIAN
BEGIN:VEVENT
UID:ae88ee2e-a65c-11ed-bfdf-0aee92d8bc67
DTSTAMP:20230705T165957Z
SUMMARY:Open House
LOCATION:Meadow Lane Elementary School
URL;VALUE=URI:https://www.cuesd.com/schools/meadow-lane/calendar/3722415/op
 en-house-clone-clone
DTSTART:20230525T003000Z
DTEND:20230525T013000Z
END:VEVENT
END:VCALENDAR
