BEGIN:VCALENDAR
VERSION:2.0
PRODID:SchoolNow
CALSCALE:GREGORIAN
BEGIN:VEVENT
UID:655a9c16-a65c-11ed-8ad1-0aee92d8bc67
DTSTAMP:20230206T202528Z
SUMMARY:School Speech Pathologist Appreciation Day
URL;VALUE=URI:https://www.cuesd.com/schools/meadow-lane/calendar/3722414/sc
 hool-speech-pathologist-appreciation-day
DTSTART;VALUE=DATE:20230518
DTEND;VALUE=DATE:20230519
END:VEVENT
END:VCALENDAR
