BEGIN:VCALENDAR
VERSION:2.0
PRODID:SchoolNow
CALSCALE:GREGORIAN
BEGIN:VEVENT
UID:581b0922-a658-11ed-bcb5-02de7d71783f
DTSTAMP:20230206T195628Z
SUMMARY:School Lunch Hero Day
URL;VALUE=URI:https://www.cuesd.com/schools/meadow-lane/calendar/3722399/sc
 hool-lunch-hero-day
DTSTART;VALUE=DATE:20230505
DTEND;VALUE=DATE:20230506
END:VEVENT
END:VCALENDAR
