BEGIN:VCALENDAR
VERSION:2.0
PRODID:SchoolNow
CALSCALE:GREGORIAN
BEGIN:VEVENT
UID:2ad91ed8-a656-11ed-98f3-0e06fff9aacf
DTSTAMP:20230206T194053Z
SUMMARY:May the "4th" Be With You Dress Up Day
URL;VALUE=URI:https://www.cuesd.com/schools/meadow-lane/calendar/3722394/ma
 y-the-4th-be-with-you-dress-up-day
DTSTART;VALUE=DATE:20230504
DTEND;VALUE=DATE:20230505
END:VEVENT
END:VCALENDAR
