BEGIN:VCALENDAR
VERSION:2.0
PRODID:SchoolNow
CALSCALE:GREGORIAN
BEGIN:VEVENT
UID:29914420-a655-11ed-ad3e-0e06fff9aacf
DTSTAMP:20230206T193341Z
SUMMARY:School Resumes\, Tuesday\, April 11th
URL;VALUE=URI:https://www.cuesd.com/schools/meadow-lane/calendar/3722386/sc
 hool-resumes-tuesday-april-11th
DTSTART:20230411T150000Z
DTEND:20230411T160000Z
END:VEVENT
END:VCALENDAR
