BEGIN:VCALENDAR
VERSION:2.0
PRODID:SchoolNow
CALSCALE:GREGORIAN
BEGIN:VEVENT
UID:c53c0bcc-a654-11ed-817d-0e06fff9aacf
DTSTAMP:20230206T193053Z
SUMMARY:Report Cards Sent Home
URL;VALUE=URI:https://www.cuesd.com/schools/meadow-lane/calendar/3722385/re
 port-cards-sent-home-clone
DTSTART;VALUE=DATE:20230317
DTEND;VALUE=DATE:20230318
END:VEVENT
END:VCALENDAR
