BEGIN:VCALENDAR
VERSION:2.0
PRODID:SchoolNow
CALSCALE:GREGORIAN
BEGIN:VEVENT
UID:813f6554-a654-11ed-b6f1-0e06fff9aacf
DTSTAMP:20230206T192921Z
SUMMARY:Minimum Day Schedule -Parent Conferences
URL;VALUE=URI:https://www.cuesd.com/schools/meadow-lane/calendar/3722383/mi
 nimum-day-parent-conferences-clone
DTSTART;VALUE=DATE:20230314
DTEND;VALUE=DATE:20230316
END:VEVENT
END:VCALENDAR
