BEGIN:VCALENDAR
VERSION:2.0
PRODID:SchoolNow
CALSCALE:GREGORIAN
BEGIN:VEVENT
UID:0edccdb2-a64f-11ed-8e42-0e8e7c25d16f
DTSTAMP:20230206T185000Z
SUMMARY:Parent Booster Club Meeting in Rm #4
URL;VALUE=URI:https://www.cuesd.com/schools/meadow-lane/calendar/3722381/pa
 rent-booster-club-meeting-in-rm-4-clone-clone-clone
DTSTART:20230510T010000Z
DTEND:20230510T020000Z
END:VEVENT
END:VCALENDAR
