BEGIN:VCALENDAR
VERSION:2.0
PRODID:SchoolNow
CALSCALE:GREGORIAN
BEGIN:VEVENT
UID:00111a0e-a64f-11ed-b71c-0e8e7c25d16f
DTSTAMP:20230206T184935Z
SUMMARY:Parent Booster Club Meeting in Rm #4
URL;VALUE=URI:https://www.cuesd.com/schools/meadow-lane/calendar/3722380/pa
 rent-booster-club-meeting-in-rm-4-clone-clone-clone
DTSTART:20230412T010000Z
DTEND:20230412T020000Z
END:VEVENT
END:VCALENDAR
