BEGIN:VCALENDAR
VERSION:2.0
PRODID:SchoolNow
CALSCALE:GREGORIAN
BEGIN:VEVENT
UID:e7e209de-a64e-11ed-8070-0e8e7c25d16f
DTSTAMP:20230206T184854Z
SUMMARY:Parent Booster Club Meeting in Rm #4
URL;VALUE=URI:https://www.cuesd.com/schools/meadow-lane/calendar/3722379/pa
 rent-booster-club-meeting-in-rm-4-clone-clone-clone
DTSTART:20230308T020000Z
DTEND:20230308T030000Z
END:VEVENT
END:VCALENDAR
