BEGIN:VCALENDAR
VERSION:2.0
PRODID:SchoolNow
CALSCALE:GREGORIAN
BEGIN:VEVENT
UID:d89ed066-a28d-11ed-b264-02a3b5ad536f
DTSTAMP:20230206T184836Z
SUMMARY:Parent Booster Club Meeting in Rm #4
URL;VALUE=URI:https://www.cuesd.com/schools/meadow-lane/calendar/3709281/pa
 rent-booster-club-meeting-in-rm-4-clone-clone
DTSTART:20230208T020000Z
DTEND:20230208T030000Z
END:VEVENT
END:VCALENDAR
