BEGIN:VCALENDAR
VERSION:2.0
PRODID:SchoolNow
CALSCALE:GREGORIAN
BEGIN:VEVENT
UID:bd7473c2-a28d-11ed-942e-02a3b5ad536f
DTSTAMP:20230202T000837Z
SUMMARY:Dr. Seuss Dress Up Week 2/27-3/3
URL;VALUE=URI:https://www.cuesd.com/schools/meadow-lane/calendar/3709266/dr
 -seuss-dress-up-week-2-27-3-3
DTSTART:20230227T160000Z
DTEND:20230303T220000Z
ATTACH;FILENAME=;FMTTYPE=application/octet-stream:
END:VEVENT
END:VCALENDAR
