BEGIN:VCALENDAR
VERSION:2.0
PRODID:SchoolNow
CALSCALE:GREGORIAN
BEGIN:VEVENT
UID:eb107e8c-8e1c-11ed-85c7-0ad1f6f2717b
DTSTAMP:20230106T235037Z
SUMMARY:Minimum Day Schedule- TK/K -12:45 & 1st-5th -1:00
URL;VALUE=URI:https://www.cuesd.com/schools/meadow-lane/calendar/3658517/mi
 nimum-day-out-at-1-15-pm-clone-clone-clone-clone-clone-clone-clone-clone-c
 lone-clone
DTSTART:20230510T194500Z
DTEND:20230510T200000Z
END:VEVENT
END:VCALENDAR
