BEGIN:VCALENDAR
VERSION:2.0
PRODID:SchoolNow
CALSCALE:GREGORIAN
BEGIN:VEVENT
UID:dfe60e5a-8e1c-11ed-b2c2-0ad1f6f2717b
DTSTAMP:20230106T235018Z
SUMMARY:Minimum Day Schedule- TK/K -12:45 & 1st-5th -1:00
URL;VALUE=URI:https://www.cuesd.com/schools/meadow-lane/calendar/3658516/mi
 nimum-day-out-at-1-15-pm-clone-clone-clone-clone-clone-clone-clone-clone-c
 lone-clone
DTSTART:20230412T194500Z
DTEND:20230412T200000Z
END:VEVENT
END:VCALENDAR
