BEGIN:VCALENDAR
VERSION:2.0
PRODID:SchoolNow
CALSCALE:GREGORIAN
BEGIN:VEVENT
UID:d10f99a0-8e1c-11ed-83cd-0ad1f6f2717b
DTSTAMP:20230106T234953Z
SUMMARY:Minimum Day Schedule- TK/K -12:45 & 1st-5th -1:00
URL;VALUE=URI:https://www.cuesd.com/schools/meadow-lane/calendar/3658515/mi
 nimum-day-out-at-1-15-pm-clone-clone-clone-clone-clone-clone-clone-clone-c
 lone-clone
DTSTART:20230308T204500Z
DTEND:20230308T210000Z
END:VEVENT
END:VCALENDAR
