BEGIN:VCALENDAR
VERSION:2.0
PRODID:SchoolNow
CALSCALE:GREGORIAN
BEGIN:VEVENT
UID:bf0af1dc-8e1c-11ed-9ca7-0ad1f6f2717b
DTSTAMP:20230106T234923Z
SUMMARY:Minimum Day Schedule- TK/K -12:45 & 1st-5th -1:00
URL;VALUE=URI:https://www.cuesd.com/schools/meadow-lane/calendar/3658514/mi
 nimum-day-out-at-1-15-pm-clone-clone-clone-clone-clone-clone-clone-clone-c
 lone-clone
DTSTART:20230208T204500Z
DTEND:20230208T210000Z
END:VEVENT
END:VCALENDAR
