BEGIN:VCALENDAR
VERSION:2.0
PRODID:SchoolNow
CALSCALE:GREGORIAN
BEGIN:VEVENT
UID:92455494-8e1c-11ed-b5bf-0ad1f6f2717b
DTSTAMP:20230106T234808Z
SUMMARY:Minimum Day Schedule- TK/K -12:45 & 1st-5th -1:00
URL;VALUE=URI:https://www.cuesd.com/schools/meadow-lane/calendar/3658512/mi
 nimum-day-out-at-1-15-pm-clone-clone-clone-clone-clone-clone-clone-clone-c
 lone
DTSTART:20230111T204500Z
DTEND:20230111T210000Z
END:VEVENT
END:VCALENDAR
