BEGIN:VCALENDAR
VERSION:2.0
PRODID:SchoolNow
CALSCALE:GREGORIAN
BEGIN:VEVENT
UID:7b63ef7e-8e1c-11ed-90d1-0ad1f6f2717b
DTSTAMP:20230106T234729Z
SUMMARY:Parent Booster Club Meeting in Rm #4
URL;VALUE=URI:https://www.cuesd.com/schools/meadow-lane/calendar/3658511/pa
 rent-booster-club-meeting-in-rm-4-clone
DTSTART:20230111T020000Z
DTEND:20230111T030000Z
END:VEVENT
END:VCALENDAR
