BEGIN:VCALENDAR
VERSION:2.0
PRODID:SchoolNow
CALSCALE:GREGORIAN
BEGIN:VEVENT
UID:47180048-8e1c-11ed-a292-0ad1f6f2717b
DTSTAMP:20230106T234602Z
SUMMARY:Project Share CLOSED for staff training
URL;VALUE=URI:https://www.cuesd.com/schools/meadow-lane/calendar/3658510/pr
 oject-share-closed-for-staff-training
DTSTART;VALUE=DATE:20230109
DTEND;VALUE=DATE:20230110
END:VEVENT
END:VCALENDAR
