BEGIN:VCALENDAR
VERSION:2.0
PRODID:SchoolNow
CALSCALE:GREGORIAN
BEGIN:VEVENT
UID:d8c1d4a0-71ad-11ed-b84e-0ecb8506585f
DTSTAMP:20221201T192459Z
SUMMARY:Return to School\, Wednesday Jan 4th
URL;VALUE=URI:https://www.cuesd.com/schools/meadow-lane/calendar/3631874/re
 turn-to-school-wednesday-jan-4th
DTSTART;VALUE=DATE:20230104
DTEND;VALUE=DATE:20230105
END:VEVENT
END:VCALENDAR
