BEGIN:VCALENDAR
VERSION:2.0
PRODID:SchoolNow
CALSCALE:GREGORIAN
BEGIN:VEVENT
UID:8c489b68-71ad-11ed-ac01-0ecb8506585f
DTSTAMP:20221201T192518Z
SUMMARY:Winter Break December 19 through January 3rd- NO SCHOOL
URL;VALUE=URI:https://www.cuesd.com/schools/meadow-lane/calendar/3631872/wi
 nter-break-december-19-through-january-3rd
DTSTART:20221219T160000Z
DTEND:20230103T220000Z
END:VEVENT
END:VCALENDAR
